BEGIN:VCALENDAR
VERSION:2.0
PRODID:-//The Greek Orthodox Ladies Philoptochos Society - ECPv6.14.2//NONSGML v1.0//EN
CALSCALE:GREGORIAN
METHOD:PUBLISH
X-WR-CALNAME:The Greek Orthodox Ladies Philoptochos Society
X-ORIGINAL-URL:https://www.philoptochos.org
X-WR-CALDESC:Events for The Greek Orthodox Ladies Philoptochos Society
REFRESH-INTERVAL;VALUE=DURATION:PT1H
X-Robots-Tag:noindex
X-PUBLISHED-TTL:PT1H
BEGIN:VTIMEZONE
TZID:UTC
BEGIN:STANDARD
TZOFFSETFROM:+0000
TZOFFSETTO:+0000
TZNAME:UTC
DTSTART:20220101T000000
END:STANDARD
END:VTIMEZONE
BEGIN:VEVENT
DTSTART;TZID=UTC:20220703T080000
DTEND;TZID=UTC:20220707T170000
DTSTAMP:20260422T144952
CREATED:20240125T032056Z
LAST-MODIFIED:20240306T062732Z
UID:1804-1656835200-1657213200@www.philoptochos.org
SUMMARY:2022 National Philoptochos Convention
DESCRIPTION:Home\n			\n					\n					AGAPE Awards\n			\n					\n					Chapter Challenges\n			\n					\n					Chapter Awards\n			\n					\n					Presentations\n			\n					\n					Social Services\n			\n					\n					Reports\n			\n					\n					Photo Gallery\n			 \nCelebrating 90 Years of Philanthropy\nJuly 3-7\, 2022Marriott Marquis\, New York\, NY\n2022 National Philoptochos Convention Sponsors\nThe biennial convention would not be imaginable without the support of our benevolent donors. As we look back at the 2022 National Convention\, we’d like to thank the sponsors who made the event possible! \n																										 \nAGAPE Awards\n“I will show you my faith by my works.” James 2:18 \nAgape is defined as the highest form of love\, charity\, and the love of God for man and of man for God. For the past two years\, as our world faced the COVID-19 pandemic\, Philoptochos faced unprecedented challenges as a philanthropic organization. Truth be told\, it was the individual Philoptochos chapters\, both large and small\, whose outreach capabilities were most challenged. \nThe nine Chapters with the most outstanding outreach were announced and honored at the AGAPE Awards Breakfast\, on Wednesday\, July 6\, 2022\, at the New York Marriott Marquis Hotel. AGAPE represents All Generations Achieving Philanthropic Endeavors. In the true spirit of AGAPE and philanthropia\, each recipient shared its philanthropic outreach during the COVID-19 pandemic. This period is remembered as one of great challenges\, but also one of great triumphs. \n2020 Chapter Challenge\nDue to the COVID-19 pandemic\, and the unique set of circumstances to hold a Virtual Convention\, the 2020 Chapter Challenges were put on hold to be presented at the 2022 Convention.  \nChapter Awards\nDownload: Presentation of 2022 Chapter Awards\nOne of the highlights at the 2022 National Philoptochos Biennial Convention in New York was the National Awards Program. Chapters were recognized for their projects and achievements.  \nThe Awards Program showcased the dedication\, devotion and the perseverance of members who encompass the body of Philoptochos. This year the Awards Program featured:    \n\nExcellence in Legacy\n\n100% Fulfillment of Chapter Commitments\n\n\nExcellence in Renewal\n\nChapter Membership Growth: increase from January 1\, 2019-December 31\, 2021 \n\n\nExcellence in Unity\n\nCombined Ministry Project\n\n\n\nPresentations\n\nFace of Compassion– Presvytera Kerry Pappas\nIOCC: Support to Greece & Ukraine- Dean Triantafillou\, Executive Director\nMudgirls Case Study- Women Helping Women: A Partnership Of Engagement and Entrepreneurship- Dorrie Papademetriou\nLearning Lab: Hitting Reset – A Path for Membership Growth – Sarah Sladek\, Next-Gen Membership & Workforce Engagement Expert- Video password available upon request via communications@philoptochos.org\, or call Georgia Kotsinis at the office at 212-977-7770 ext. 203\n\nLink: The Path to Membership Growth Toolkit\n\n\n\nSarah Sladek Membership Video\nResources \n2022 National Report \nCaregiver Support Group Report \nConvention Powerpoint \nFor additional resources on social services\, click here.\nFor the most updated Metropolis President Reports and Committee Reports\, visit this page. To view Financial Reports\, visit this page.  \nMinutes\nMinutes Tuesday 7/5 \nMinutes Wednesday 7/6 \n 						 \nPhoto Gallery\n\n														\n															 \nCelebrating 90 Years of Philanthropy\nJuly 3-7\, 2022Marriott Marquis\, New York\, NY\n2022 National Philoptochos Convention Sponsors\nThe biennial convention would not be imaginable without the support of our benevolent donors. As we look back at the 2022 National Convention\, we’d like to thank the sponsors who made the event possible! \n													\n		https://www.youtube.com/watch?v=zdI33wWf5OQ \nAGAPE Awards\n“I will show you my faith by my works.” James 2:18 \nhttps://www.youtube.com/watch?v=ZSMjddZh4mw \nAgape is defined as the highest form of love\, charity\, and the love of God for man and of man for God. For the past two years\, as our world faced the COVID-19 pandemic\, Philoptochos faced unprecedented challenges as a philanthropic organization. Truth be told\, it was the individual Philoptochos chapters\, both large and small\, whose outreach capabilities were most challenged. \nThe nine Chapters with the most outstanding outreach were announced and honored at the AGAPE Awards Breakfast\, on Wednesday\, July 6\, 2022\, at the New York Marriott Marquis Hotel. AGAPE represents All Generations Achieving Philanthropic Endeavors. In the true spirit of AGAPE and philanthropia\, each recipient shared its philanthropic outreach during the COVID-19 pandemic. This period is remembered as one of great challenges\, but also one of great triumphs. \n2020 Chapter Challenge\nDue to the COVID-19 pandemic\, and the unique set of circumstances to hold a Virtual Convention\, the 2020 Chapter Challenges were put on hold to be presented at the 2022 Convention.  \nhttps://www.youtube.com/watch?v=kkecS2UKUHY		 \nChapter Awards\nDownload: Presentation of 2022 Chapter Awards\nOne of the highlights at the 2022 National Philoptochos Biennial Convention in New York was the National Awards Program. Chapters were recognized for their projects and achievements.  \nThe Awards Program showcased the dedication\, devotion and the perseverance of members who encompass the body of Philoptochos. This year the Awards Program featured:    \n\nExcellence in Legacy\n\n100% Fulfillment of Chapter Commitments\n\n\nExcellence in Renewal\n\nChapter Membership Growth: increase from January 1\, 2019-December 31\, 2021 \n\n\nExcellence in Unity\n\nCombined Ministry Project\n\n\n\nPresentations\n\nFace of Compassion– Presvytera Kerry Pappas\nIOCC: Support to Greece & Ukraine- Dean Triantafillou\, Executive Director\nMudgirls Case Study- Women Helping Women: A Partnership Of Engagement and Entrepreneurship- Dorrie Papademetriou\nLearning Lab: Hitting Reset – A Path for Membership Growth – Sarah Sladek\, Next-Gen Membership & Workforce Engagement Expert- Video password available upon request via communications@philoptochos.org\, or call Georgia Kotsinis at the office at 212-977-7770 ext. 203\n\nLink: The Path to Membership Growth Toolkit\n\n\n\nSarah Sladek Membership Video\nResources \n2022 National Report \nCaregiver Support Group Report \nConvention Powerpoint \nFor additional resources on social services\, click here.\nFor the most updated Metropolis President Reports and Committee Reports\, visit this page. To view Financial Reports\, visit this page.  \nMinutes\nMinutes Tuesday 7/5 \nMinutes Wednesday 7/6 \n 		 \nPhoto Gallery
URL:https://www.philoptochos.org/event/2022-national-philoptochos-convention/
LOCATION:Marriott Marquis\, New York\, NY\, NY\, United States
CATEGORIES:Convention
ATTACH;FMTTYPE=image/png:https://www.philoptochos.org/wp-content/uploads/2024/01/2022-Biennial-Convention-Registration-Header-1.png
END:VEVENT
END:VCALENDAR