BEGIN:VCALENDAR
VERSION:2.0
PRODID:-//The Greek Orthodox Ladies Philoptochos Society - ECPv6.14.2//NONSGML v1.0//EN
CALSCALE:GREGORIAN
METHOD:PUBLISH
X-WR-CALNAME:The Greek Orthodox Ladies Philoptochos Society
X-ORIGINAL-URL:https://www.philoptochos.org
X-WR-CALDESC:Events for The Greek Orthodox Ladies Philoptochos Society
REFRESH-INTERVAL;VALUE=DURATION:PT1H
X-Robots-Tag:noindex
X-PUBLISHED-TTL:PT1H
BEGIN:VTIMEZONE
TZID:UTC
BEGIN:STANDARD
TZOFFSETFROM:+0000
TZOFFSETTO:+0000
TZNAME:UTC
DTSTART:20250101T000000
END:STANDARD
END:VTIMEZONE
BEGIN:VEVENT
DTSTART;TZID=UTC:20250926T090000
DTEND;TZID=UTC:20250926T160000
DTSTAMP:20260423T182647
CREATED:20250611T170411Z
LAST-MODIFIED:20250611T170613Z
UID:7688-1758877200-1758902400@www.philoptochos.org
SUMMARY:National Board Meeting | September 26\, 2025
DESCRIPTION:
URL:https://www.philoptochos.org/event/national-board-meeting-september-26-2025/
LOCATION:Grand Hyatt Buckhead\, 3300 Peachtree Rd NE\, Atlanta\, GA\, 30305
CATEGORIES:National Board Meetings
END:VEVENT
END:VCALENDAR