BEGIN:VCALENDAR
VERSION:2.0
PRODID:-//The Greek Orthodox Ladies Philoptochos Society - ECPv6.14.2//NONSGML v1.0//EN
CALSCALE:GREGORIAN
METHOD:PUBLISH
X-ORIGINAL-URL:https://www.philoptochos.org
X-WR-CALDESC:Events for The Greek Orthodox Ladies Philoptochos Society
REFRESH-INTERVAL;VALUE=DURATION:PT1H
X-Robots-Tag:noindex
X-PUBLISHED-TTL:PT1H
BEGIN:VTIMEZONE
TZID:UTC
BEGIN:STANDARD
TZOFFSETFROM:+0000
TZOFFSETTO:+0000
TZNAME:UTC
DTSTART:20250101T000000
END:STANDARD
END:VTIMEZONE
BEGIN:VEVENT
DTSTART;TZID=UTC:20250722T190000
DTEND;TZID=UTC:20250722T200000
DTSTAMP:20260421T153029
CREATED:20250611T152232Z
LAST-MODIFIED:20250611T152650Z
UID:7670-1753210800-1753214400@www.philoptochos.org
SUMMARY:Executive Board Meeting | July 22\, 2025
DESCRIPTION:
URL:https://www.philoptochos.org/event/executive-board-meeting-july-22-2025/
CATEGORIES:Executive Board Meetings
END:VEVENT
END:VCALENDAR