BEGIN:VCALENDAR
VERSION:2.0
PRODID:-//The Greek Orthodox Ladies Philoptochos Society - ECPv6.14.2//NONSGML v1.0//EN
CALSCALE:GREGORIAN
METHOD:PUBLISH
X-WR-CALNAME:The Greek Orthodox Ladies Philoptochos Society
X-ORIGINAL-URL:https://www.philoptochos.org
X-WR-CALDESC:Events for The Greek Orthodox Ladies Philoptochos Society
REFRESH-INTERVAL;VALUE=DURATION:PT1H
X-Robots-Tag:noindex
X-PUBLISHED-TTL:PT1H
BEGIN:VTIMEZONE
TZID:UTC
BEGIN:STANDARD
TZOFFSETFROM:+0000
TZOFFSETTO:+0000
TZNAME:UTC
DTSTART:20250101T000000
END:STANDARD
END:VTIMEZONE
BEGIN:VEVENT
DTSTART;TZID=UTC:20250624T190000
DTEND;TZID=UTC:20250624T200000
DTSTAMP:20260421T165511
CREATED:20250611T151227Z
LAST-MODIFIED:20250611T152709Z
UID:7668-1750791600-1750795200@www.philoptochos.org
SUMMARY:Executive Board Meeting | June 24\, 2025
DESCRIPTION:
URL:https://www.philoptochos.org/event/executive-board-meeting-june-24-2025/
CATEGORIES:Executive Board Meetings
END:VEVENT
END:VCALENDAR